BEGIN:VCALENDAR
VERSION:2.0
PRODID:-//People&#039;s Health Clinic PDX - ECPv6.15.20//NONSGML v1.0//EN
CALSCALE:GREGORIAN
METHOD:PUBLISH
X-WR-CALNAME:People&#039;s Health Clinic PDX
X-ORIGINAL-URL:https://peopleshealthclinicpdx.com
X-WR-CALDESC:Events for People&#039;s Health Clinic PDX
REFRESH-INTERVAL;VALUE=DURATION:PT1H
X-Robots-Tag:noindex
X-PUBLISHED-TTL:PT1H
BEGIN:VTIMEZONE
TZID:America/Los_Angeles
BEGIN:DAYLIGHT
TZOFFSETFROM:-0800
TZOFFSETTO:-0700
TZNAME:PDT
DTSTART:20220313T100000
END:DAYLIGHT
BEGIN:STANDARD
TZOFFSETFROM:-0700
TZOFFSETTO:-0800
TZNAME:PST
DTSTART:20221106T090000
END:STANDARD
BEGIN:DAYLIGHT
TZOFFSETFROM:-0800
TZOFFSETTO:-0700
TZNAME:PDT
DTSTART:20230312T100000
END:DAYLIGHT
BEGIN:STANDARD
TZOFFSETFROM:-0700
TZOFFSETTO:-0800
TZNAME:PST
DTSTART:20231105T090000
END:STANDARD
BEGIN:DAYLIGHT
TZOFFSETFROM:-0800
TZOFFSETTO:-0700
TZNAME:PDT
DTSTART:20240310T100000
END:DAYLIGHT
BEGIN:STANDARD
TZOFFSETFROM:-0700
TZOFFSETTO:-0800
TZNAME:PST
DTSTART:20241103T090000
END:STANDARD
BEGIN:DAYLIGHT
TZOFFSETFROM:-0800
TZOFFSETTO:-0700
TZNAME:PDT
DTSTART:20250309T100000
END:DAYLIGHT
BEGIN:STANDARD
TZOFFSETFROM:-0700
TZOFFSETTO:-0800
TZNAME:PST
DTSTART:20251102T090000
END:STANDARD
BEGIN:DAYLIGHT
TZOFFSETFROM:-0800
TZOFFSETTO:-0700
TZNAME:PDT
DTSTART:20260308T100000
END:DAYLIGHT
BEGIN:STANDARD
TZOFFSETFROM:-0700
TZOFFSETTO:-0800
TZNAME:PST
DTSTART:20261101T090000
END:STANDARD
BEGIN:DAYLIGHT
TZOFFSETFROM:-0800
TZOFFSETTO:-0700
TZNAME:PDT
DTSTART:20270314T100000
END:DAYLIGHT
BEGIN:STANDARD
TZOFFSETFROM:-0700
TZOFFSETTO:-0800
TZNAME:PST
DTSTART:20271107T090000
END:STANDARD
END:VTIMEZONE
BEGIN:VEVENT
DTSTART;TZID=America/Los_Angeles:20260130T184500
DTEND;TZID=America/Los_Angeles:20260130T210000
DTSTAMP:20260420T193349
CREATED:20251222T160631Z
LAST-MODIFIED:20251222T160631Z
UID:433-1769798700-1769806800@peopleshealthclinicpdx.com
SUMMARY:January 30\, 2026
DESCRIPTION:
URL:https://peopleshealthclinicpdx.com/upcoming-event/january-30-2026/
END:VEVENT
BEGIN:VEVENT
DTSTART;TZID=America/Los_Angeles:20251219T190000
DTEND;TZID=America/Los_Angeles:20251219T210000
DTSTAMP:20260420T193349
CREATED:20250710T155147Z
LAST-MODIFIED:20250710T155147Z
UID:429-1766170800-1766178000@peopleshealthclinicpdx.com
SUMMARY:December 19\, 2025
DESCRIPTION:
URL:https://peopleshealthclinicpdx.com/upcoming-event/december-19-2025/
END:VEVENT
BEGIN:VEVENT
DTSTART;TZID=America/Los_Angeles:20251121T190000
DTEND;TZID=America/Los_Angeles:20251121T210000
DTSTAMP:20260420T193349
CREATED:20250710T155058Z
LAST-MODIFIED:20250710T155058Z
UID:425-1763751600-1763758800@peopleshealthclinicpdx.com
SUMMARY:November 21\, 2025
DESCRIPTION:
URL:https://peopleshealthclinicpdx.com/upcoming-event/november-21-2025/
END:VEVENT
BEGIN:VEVENT
DTSTART;TZID=America/Los_Angeles:20251024T190000
DTEND;TZID=America/Los_Angeles:20251024T210000
DTSTAMP:20260420T193349
CREATED:20250710T154931Z
LAST-MODIFIED:20250710T154931Z
UID:421-1761332400-1761339600@peopleshealthclinicpdx.com
SUMMARY:October 24\, 2025
DESCRIPTION:
URL:https://peopleshealthclinicpdx.com/upcoming-event/october-24-2025/
END:VEVENT
BEGIN:VEVENT
DTSTART;TZID=America/Los_Angeles:20250926T184500
DTEND;TZID=America/Los_Angeles:20250926T210000
DTSTAMP:20260420T193349
CREATED:20250302T013847Z
LAST-MODIFIED:20250302T013847Z
UID:417-1758912300-1758920400@peopleshealthclinicpdx.com
SUMMARY:September 26\, 2025
DESCRIPTION:
URL:https://peopleshealthclinicpdx.com/upcoming-event/september-26-2025/
END:VEVENT
BEGIN:VEVENT
DTSTART;TZID=America/Los_Angeles:20250829T184500
DTEND;TZID=America/Los_Angeles:20250829T210000
DTSTAMP:20260420T193349
CREATED:20250302T013753Z
LAST-MODIFIED:20250302T013753Z
UID:413-1756493100-1756501200@peopleshealthclinicpdx.com
SUMMARY:August 29\, 2025
DESCRIPTION:
URL:https://peopleshealthclinicpdx.com/upcoming-event/august-29-2025/
END:VEVENT
BEGIN:VEVENT
DTSTART;TZID=America/Los_Angeles:20250725T184500
DTEND;TZID=America/Los_Angeles:20250725T210000
DTSTAMP:20260420T193349
CREATED:20250302T013607Z
LAST-MODIFIED:20250302T013607Z
UID:409-1753469100-1753477200@peopleshealthclinicpdx.com
SUMMARY:July 25\, 2025
DESCRIPTION:
URL:https://peopleshealthclinicpdx.com/upcoming-event/july-25-2025/
END:VEVENT
BEGIN:VEVENT
DTSTART;TZID=America/Los_Angeles:20250627T184500
DTEND;TZID=America/Los_Angeles:20250627T210000
DTSTAMP:20260420T193349
CREATED:20250302T013445Z
LAST-MODIFIED:20250302T013445Z
UID:405-1751049900-1751058000@peopleshealthclinicpdx.com
SUMMARY:June 27\, 2025
DESCRIPTION:
URL:https://peopleshealthclinicpdx.com/upcoming-event/june-27-2025/
END:VEVENT
BEGIN:VEVENT
DTSTART;TZID=America/Los_Angeles:20250530T184500
DTEND;TZID=America/Los_Angeles:20250530T210000
DTSTAMP:20260420T193349
CREATED:20250302T013353Z
LAST-MODIFIED:20250302T013353Z
UID:401-1748630700-1748638800@peopleshealthclinicpdx.com
SUMMARY:May 30\, 2025
DESCRIPTION:
URL:https://peopleshealthclinicpdx.com/upcoming-event/may-30-2025/
END:VEVENT
BEGIN:VEVENT
DTSTART;TZID=America/Los_Angeles:20250425T184500
DTEND;TZID=America/Los_Angeles:20250425T210000
DTSTAMP:20260420T193349
CREATED:20250302T013304Z
LAST-MODIFIED:20250302T013304Z
UID:397-1745606700-1745614800@peopleshealthclinicpdx.com
SUMMARY:April 25\, 2025
DESCRIPTION:
URL:https://peopleshealthclinicpdx.com/upcoming-event/april-25-2025/
END:VEVENT
BEGIN:VEVENT
DTSTART;TZID=America/Los_Angeles:20250328T184500
DTEND;TZID=America/Los_Angeles:20250328T210000
DTSTAMP:20260420T193349
CREATED:20250302T013033Z
LAST-MODIFIED:20250302T013149Z
UID:393-1743187500-1743195600@peopleshealthclinicpdx.com
SUMMARY:March 29\, 2025
DESCRIPTION:
URL:https://peopleshealthclinicpdx.com/upcoming-event/march-29-2025/
END:VEVENT
BEGIN:VEVENT
DTSTART;TZID=America/Los_Angeles:20250131T184500
DTEND;TZID=America/Los_Angeles:20250131T210000
DTSTAMP:20260420T193349
CREATED:20241004T001833Z
LAST-MODIFIED:20241004T001833Z
UID:389-1738349100-1738357200@peopleshealthclinicpdx.com
SUMMARY:January 31\, 2025
DESCRIPTION:
URL:https://peopleshealthclinicpdx.com/upcoming-event/january-31-2025/
END:VEVENT
BEGIN:VEVENT
DTSTART;TZID=America/Los_Angeles:20241220T184500
DTEND;TZID=America/Los_Angeles:20241220T210000
DTSTAMP:20260420T193349
CREATED:20241004T001757Z
LAST-MODIFIED:20241004T001757Z
UID:385-1734720300-1734728400@peopleshealthclinicpdx.com
SUMMARY:December 20\, 2024
DESCRIPTION:
URL:https://peopleshealthclinicpdx.com/upcoming-event/december-20-2024/
END:VEVENT
BEGIN:VEVENT
DTSTART;TZID=America/Los_Angeles:20241122T184500
DTEND;TZID=America/Los_Angeles:20241122T210000
DTSTAMP:20260420T193349
CREATED:20241004T001718Z
LAST-MODIFIED:20241004T001718Z
UID:381-1732301100-1732309200@peopleshealthclinicpdx.com
SUMMARY:November 22\, 2024
DESCRIPTION:
URL:https://peopleshealthclinicpdx.com/upcoming-event/november-22-2024/
END:VEVENT
BEGIN:VEVENT
DTSTART;TZID=America/Los_Angeles:20241025T190000
DTEND;TZID=America/Los_Angeles:20241025T210000
DTSTAMP:20260420T193349
CREATED:20240210T205322Z
LAST-MODIFIED:20240210T205322Z
UID:377-1729882800-1729890000@peopleshealthclinicpdx.com
SUMMARY:October 25\, 2024
DESCRIPTION:
URL:https://peopleshealthclinicpdx.com/upcoming-event/october-25-2024/
END:VEVENT
BEGIN:VEVENT
DTSTART;TZID=America/Los_Angeles:20240927T190000
DTEND;TZID=America/Los_Angeles:20240927T210000
DTSTAMP:20260420T193349
CREATED:20240210T205237Z
LAST-MODIFIED:20240210T205237Z
UID:374-1727463600-1727470800@peopleshealthclinicpdx.com
SUMMARY:September 27\, 2024
DESCRIPTION:
URL:https://peopleshealthclinicpdx.com/upcoming-event/september-27-2024/
END:VEVENT
BEGIN:VEVENT
DTSTART;TZID=America/Los_Angeles:20240830T190000
DTEND;TZID=America/Los_Angeles:20240830T210000
DTSTAMP:20260420T193349
CREATED:20240210T205145Z
LAST-MODIFIED:20240210T205145Z
UID:371-1725044400-1725051600@peopleshealthclinicpdx.com
SUMMARY:August 30\, 2024
DESCRIPTION:
URL:https://peopleshealthclinicpdx.com/upcoming-event/august-30-2024/
END:VEVENT
BEGIN:VEVENT
DTSTART;TZID=America/Los_Angeles:20240726T190000
DTEND;TZID=America/Los_Angeles:20240726T210000
DTSTAMP:20260420T193349
CREATED:20240210T205047Z
LAST-MODIFIED:20240210T205047Z
UID:368-1722020400-1722027600@peopleshealthclinicpdx.com
SUMMARY:July 26\, 2024
DESCRIPTION:
URL:https://peopleshealthclinicpdx.com/upcoming-event/july-26-2024/
END:VEVENT
BEGIN:VEVENT
DTSTART;TZID=America/Los_Angeles:20240628T190000
DTEND;TZID=America/Los_Angeles:20240628T210000
DTSTAMP:20260420T193349
CREATED:20240210T205008Z
LAST-MODIFIED:20240210T205008Z
UID:365-1719601200-1719608400@peopleshealthclinicpdx.com
SUMMARY:June 28\, 2024
DESCRIPTION:
URL:https://peopleshealthclinicpdx.com/upcoming-event/june-28-2024/
END:VEVENT
BEGIN:VEVENT
DTSTART;TZID=America/Los_Angeles:20240524T190000
DTEND;TZID=America/Los_Angeles:20240524T210000
DTSTAMP:20260420T193349
CREATED:20240210T204922Z
LAST-MODIFIED:20240210T204922Z
UID:362-1716577200-1716584400@peopleshealthclinicpdx.com
SUMMARY:May 24\, 2024
DESCRIPTION:
URL:https://peopleshealthclinicpdx.com/upcoming-event/may-24-2024/
END:VEVENT
BEGIN:VEVENT
DTSTART;TZID=America/Los_Angeles:20240426T190000
DTEND;TZID=America/Los_Angeles:20240426T210000
DTSTAMP:20260420T193349
CREATED:20240205T214919Z
LAST-MODIFIED:20240205T214919Z
UID:359-1714158000-1714165200@peopleshealthclinicpdx.com
SUMMARY:April 26\, 2024
DESCRIPTION:
URL:https://peopleshealthclinicpdx.com/upcoming-event/april-26-2024/
END:VEVENT
BEGIN:VEVENT
DTSTART;TZID=America/Los_Angeles:20240329T190000
DTEND;TZID=America/Los_Angeles:20240329T210000
DTSTAMP:20260420T193349
CREATED:20240205T212225Z
LAST-MODIFIED:20240205T212757Z
UID:356-1711738800-1711746000@peopleshealthclinicpdx.com
SUMMARY:March 29\, 2024
DESCRIPTION:
URL:https://peopleshealthclinicpdx.com/upcoming-event/march-29-2024/
END:VEVENT
BEGIN:VEVENT
DTSTART;TZID=America/Los_Angeles:20240223T190000
DTEND;TZID=America/Los_Angeles:20240223T210000
DTSTAMP:20260420T193349
CREATED:20240205T212006Z
LAST-MODIFIED:20240205T212006Z
UID:353-1708714800-1708722000@peopleshealthclinicpdx.com
SUMMARY:February 23\, 2024
DESCRIPTION:
URL:https://peopleshealthclinicpdx.com/upcoming-event/february-23-2024/
END:VEVENT
BEGIN:VEVENT
DTSTART;TZID=America/Los_Angeles:20231215T190000
DTEND;TZID=America/Los_Angeles:20231215T210000
DTSTAMP:20260420T193349
CREATED:20231012T000900Z
LAST-MODIFIED:20231012T000900Z
UID:349-1702666800-1702674000@peopleshealthclinicpdx.com
SUMMARY:December 15\, 2023
DESCRIPTION:
URL:https://peopleshealthclinicpdx.com/upcoming-event/december-15-2023/
END:VEVENT
BEGIN:VEVENT
DTSTART;TZID=America/Los_Angeles:20231117T190000
DTEND;TZID=America/Los_Angeles:20231117T210000
DTSTAMP:20260420T193349
CREATED:20231012T000635Z
LAST-MODIFIED:20231012T000635Z
UID:342-1700247600-1700254800@peopleshealthclinicpdx.com
SUMMARY:November 17\, 2023
DESCRIPTION:
URL:https://peopleshealthclinicpdx.com/upcoming-event/november-17-2023/
END:VEVENT
BEGIN:VEVENT
DTSTART;TZID=America/Los_Angeles:20231027T183000
DTEND;TZID=America/Los_Angeles:20231027T210000
DTSTAMP:20260420T193349
CREATED:20230723T223748Z
LAST-MODIFIED:20230723T223748Z
UID:338-1698431400-1698440400@peopleshealthclinicpdx.com
SUMMARY:October 27\, 2023
DESCRIPTION:
URL:https://peopleshealthclinicpdx.com/upcoming-event/october-27-2023/
END:VEVENT
BEGIN:VEVENT
DTSTART;TZID=America/Los_Angeles:20230929T183000
DTEND;TZID=America/Los_Angeles:20230929T210000
DTSTAMP:20260420T193349
CREATED:20230723T223705Z
LAST-MODIFIED:20230723T223705Z
UID:334-1696012200-1696021200@peopleshealthclinicpdx.com
SUMMARY:September 29\, 2023
DESCRIPTION:
URL:https://peopleshealthclinicpdx.com/upcoming-event/september-29-2023/
END:VEVENT
BEGIN:VEVENT
DTSTART;TZID=America/Los_Angeles:20230825T183000
DTEND;TZID=America/Los_Angeles:20230825T210000
DTSTAMP:20260420T193349
CREATED:20230723T223622Z
LAST-MODIFIED:20230723T223622Z
UID:330-1692988200-1692997200@peopleshealthclinicpdx.com
SUMMARY:August 25\, 2023
DESCRIPTION:
URL:https://peopleshealthclinicpdx.com/upcoming-event/august-25-2023/
END:VEVENT
BEGIN:VEVENT
DTSTART;TZID=America/Los_Angeles:20230728T183000
DTEND;TZID=America/Los_Angeles:20230728T210000
DTSTAMP:20260420T193349
CREATED:20230723T223515Z
LAST-MODIFIED:20230723T223515Z
UID:326-1690569000-1690578000@peopleshealthclinicpdx.com
SUMMARY:July 28\, 2023
DESCRIPTION:
URL:https://peopleshealthclinicpdx.com/upcoming-event/july-28-2023/
END:VEVENT
BEGIN:VEVENT
DTSTART;TZID=America/Los_Angeles:20230630T190000
DTEND;TZID=America/Los_Angeles:20230630T210000
DTSTAMP:20260420T193349
CREATED:20221204T183543Z
LAST-MODIFIED:20221204T183543Z
UID:322-1688151600-1688158800@peopleshealthclinicpdx.com
SUMMARY:June 30\, 2023
DESCRIPTION:
URL:https://peopleshealthclinicpdx.com/upcoming-event/june-30-2023/
END:VEVENT
END:VCALENDAR